Workbook

Sheet Summary
A1: Ambravik Cold Chain (fictional)
A2: 5,000 MT multi-commodity cold storage with rooftop solar - financial model summary
A3: EXAMPLE DATA - fictional project, invented numbers, for demonstration only. Units Rs lakh unless stated.
A5: Key results | D5: 10-year snapshot | E5: Y1 | F5: Y2 | G5: Y3 | H5: Y4 | I5: Y5 | J5: Y6 | K5: Y7 | L5: Y8 | M5: Y9 | N5: Y10
A6: Total project cost | B6: =Capex_Funding!$C$16 -> 771.95 | D6: Utilisation | E6: =Revenue_Costs!D5 -> 0.55 | F6: =Revenue_Costs!E5 -> 0.65 | G6: =Revenue_Costs!F5 -> 0.75 | H6: =Revenue_Costs!G5 -> 0.8 | I6: =Revenue_Costs!H5 -> 0.8 | J6: =Revenue_Costs!I5 -> 0.82 | K6: =Revenue_Costs!J5 -> 0.82 | L6: =Revenue_Costs!K5 -> 0.82 | ... N6: =Revenue_Costs!M5 -> 0.82
A7: Term loan | B7: =Capex_Funding!$C$19 -> 463.17 | D7: Revenue | E7: =Revenue_Costs!D10 -> 181.5 | F7: =Revenue_Costs!E10 -> 223.08 | G7: =Revenue_Costs!F10 -> 267.696 | H7: =Revenue_Costs!G10 -> 296.9641 | I7: =Revenue_Costs!H10 -> 308.84266 | J7: =Revenue_Costs!I10 -> 329.22628 | K7: =Revenue_Costs!J10 -> 342.39533 | L7: =Revenue_Costs!K10 -> 356.09114 | ... N7: =Revenue_Costs!M10 -> 385.14818
A8: Promoter equity | B8: =Capex_Funding!$C$20 -> 308.78 | D8: EBITDA | E8: =Revenue_Costs!D23 -> 104.4297 | F8: =Revenue_Costs!E23 -> 137.23143 | G8: =Revenue_Costs!F23 -> 172.37784 | H8: =Revenue_Costs!G23 -> 194.24964 | I8: =Revenue_Costs!H23 -> 201.16059 | J8: =Revenue_Costs!I23 -> 215.07378 | K8: =Revenue_Costs!J23 -> 222.66588 | L8: =Revenue_Costs!K23 -> 230.48415 | ... N8: =Revenue_Costs!M23 -> 246.81778
A9: Debt : equity | B9: =Capex_Funding!$C$22 -> 1.5 | D9: PAT | E9: =PnL!D17 -> 9.9649989 | F9: =PnL!E17 -> 34.51053 | G9: =PnL!F17 -> 60.810591 | H9: =PnL!G17 -> 82.376112 | I9: =PnL!H17 -> 92.746424 | J9: =PnL!I17 -> 111.64904 | K9: =PnL!J17 -> 122.52906 | L9: =PnL!K17 -> 133.57832 | ... N9: =PnL!M17 -> 156.19848
A10: Project IRR | B10: =Returns!$C$22 -> 0.14959511 | D10: DSCR | E10: =Returns!D7 -> 2.0783863 | F10: =Returns!E7 -> 2.5830972 | G10: =Returns!F7 -> 1.323375 | H10: =Returns!G7 -> 1.5441599 | I10: =Returns!H7 -> 1.6843997 | J10: =Returns!I7 -> 1.8893599 | K10: =Returns!J7 -> 2.0854171 | L10: =Returns!K7 -> 2.3176146 | ... N10: =Returns!M7
A11: Project NPV | B11: =Returns!$C$21 -> 163.08357 | D11: Loan balance | E11: =Loan!D10 -> 463.17 | F11: =Loan!E10 -> 463.17 | G11: =Loan!F10 -> 397.00286 | H11: =Loan!G10 -> 330.83571 | I11: =Loan!H10 -> 264.66857 | J11: =Loan!I10 -> 198.50143 | K11: =Loan!J10 -> 132.33429 | L11: =Loan!K10 -> 66.167143 | ... N11: =Loan!M10 -> 0
A12: Equity IRR | B12: =Returns!$C$30 -> 0.20876832 | D12: Closing cash | E12: =CashFlow!D18 -> 54.402832 | F12: =CashFlow!E18 -> 126.98856 | G12: =CashFlow!F18 -> 159.38973 | H12: =CashFlow!G18 -> 215.07822 | I12: =CashFlow!H18 -> 283.08132 | J12: =CashFlow!I18 -> 364.66198 | K12: =CashFlow!J18 -> 457.93869 | L12: =CashFlow!K18 -> 562.22443 | ... N12: =CashFlow!M18 -> 870.67948
A13: Equity NPV | B13: =Returns!$C$29 -> 129.6891
A14: Benefit-cost ratio | B14: =Returns!$C$23 -> 1.2163055 | D14: Sensitivity (project IRR / minimum DSCR)
A15: Minimum DSCR | B15: =Returns!$C$8 -> 1.323375 | D15: =Inputs!$A$60 -> Base case | I15: =Sens_Calc!$C$125 -> 0.14959511 | J15: =Sens_Calc!$C$111 -> 1.323375
A16: Average DSCR | B16: =Returns!$C$9 -> 2.0113458 | D16: =Inputs!$A$61 -> Rent -10% | I16: =Sens_Calc!$C$264 -> 0.12050483 | J16: =Sens_Calc!$C$250 -> 1.1541177
A17: Simple payback | B17: =Returns!$C$24 -> 5.7357401 | D17: =Inputs!$A$62 -> Utilisation -10 points | I17: =Sens_Calc!$C$403 -> 0.11556501 | J17: =Sens_Calc!$C$389 -> 1.1256897
A18: Discounted payback | B18: =Returns!$C$25 -> 8.7184702 | D18: =Inputs!$A$63 -> Operating costs +10% | I18: =Sens_Calc!$C$542 -> 0.13884122 | J18: =Sens_Calc!$C$528 -> 1.2612438
A19: Break-even utilisation (rep. year) | B19: =Returns!$C$36 -> 0.45050313 | D19: =Inputs!$A$64 -> Capital cost +10% | I19: =Sens_Calc!$C$681 -> 0.13160427 | J19: =Sens_Calc!$C$667 -> 1.2181315
A20: Cash break-even utilisation (rep. year) | B20: =Returns!$C$37 -> 0.52570531 | D20: =Inputs!$A$65 -> Interest rate +2 points | I20: =Sens_Calc!$C$820 -> 0.14959511 | J20: =Sens_Calc!$C$806 -> 1.2433566
A21: Model checks | B21: =Checks!$C$16 -> ALL CHECKS OK | D21: =Inputs!$A$66 -> Combined: rent -10%, costs +10%, capex +10% | I21: =Sens_Calc!$C$959 -> 0.093378397 | J21: =Sens_Calc!$C$945 -> 1.0392201
A22: DSCR covenant met (min vs lender minimum) | B22: =Checks!$C$17 -> YES
D23: Built with live formulas: change any blue cell on the Inputs sheet and every sheet recalculates.

Sheet Inputs
A1: INPUTS - all assumptions live on this sheet only (blue cells on yellow)
A2: EXAMPLE DATA - every value on this sheet is invented for a demo of a FICTIONAL project. Replace with the client's own data.
A3: Project | C3: Ambravik Cold Chain (fictional)
A4: Description | C4: 5,000 MT multi-commodity cold storage with rooftop solar
A6: Timeline: year index | B6: year | C6: 0 | D6: 1 | E6: 2 | F6: 3 | G6: 4 | H6: 5 | I6: 6 | J6: 7 | K6: 8 | L6: 9 | M6: 10 | N6: EXAMPLE DATA
A8: Assumption | B8: Unit | C8: Value | D8: Source / note
A9: Capital cost (Year 0)
A10: Land and site development | B10: Rs lakh | C10: 40 | D10: EXAMPLE DATA
A11: Building and civil works | B11: Rs lakh | C11: 230 | D11: EXAMPLE DATA
A12: Refrigeration plant and machinery | B12: Rs lakh | C12: 250 | D12: EXAMPLE DATA
A13: Insulated panels, doors and racking | B13: Rs lakh | C13: 95 | D13: EXAMPLE DATA
A14: Electricals, DG set and fire safety | B14: Rs lakh | C14: 48 | D14: EXAMPLE DATA
A15: Rooftop solar plant | B15: Rs lakh | C15: 36 | D15: EXAMPLE DATA
A16: Contingency (on building, plant and equipment) | B16: % | C16: 0.05 | D16: EXAMPLE DATA
A17: Preliminary and pre-operative expenses | B17: Rs lakh | C17: 22 | D17: EXAMPLE DATA
A18: Margin money / initial cash reserve | B18: Rs lakh | C18: 18 | D18: EXAMPLE DATA
A19: Means of finance
A20: Term loan share of project cost | B20: % | C20: 0.6 | D20: EXAMPLE DATA
A21: Term loan interest rate (annual) | B21: % | C21: 0.105 | D21: EXAMPLE DATA
A22: Repayment moratorium after start of operations | B22: years | C22: 2 | D22: EXAMPLE DATA
A23: Repayment period after moratorium (equal instalments) | B23: years | C23: 7 | D23: EXAMPLE DATA
A24: Revenue
A25: Installed storage capacity | B25: MT | C25: 5000 | D25: EXAMPLE DATA
A26: Average storage rent (all commodities, per MT per year) | B26: Rs per MT | C26: 6000 | D26: EXAMPLE DATA
A27: Annual rent escalation | B27: % | C27: 0.04 | D27: EXAMPLE DATA
A28: Ancillary income (handling, sorting) as % of rent | B28: % | C28: 0.1 | D28: EXAMPLE DATA
A29: Operating costs
A30: Grid power cost per MT stored per year (Year 1) | B30: Rs per MT | C30: 950 | D30: EXAMPLE DATA
A31: Annual power tariff escalation | B31: % | C31: 0.05 | D31: EXAMPLE DATA
A32: Share of power cost offset by rooftop solar | B32: % | C32: 0.18 | D32: EXAMPLE DATA
A33: Consumables and packing as % of revenue | B33: % | C33: 0.03 | D33: EXAMPLE DATA
A34: Salaries and wages (Year 1) | B34: Rs lakh | C34: 32 | D34: EXAMPLE DATA
A35: Annual salary escalation | B35: % | C35: 0.06 | D35: EXAMPLE DATA
A36: Repairs and maintenance as % of plant and equipment cost | B36: % | C36: 0.015 | D36: EXAMPLE DATA
A37: Insurance as % of building, plant and equipment cost | B37: % | C37: 0.004 | D37: EXAMPLE DATA
A38: Administration and marketing (Year 1) | B38: Rs lakh | C38: 9 | D38: EXAMPLE DATA
A39: Annual admin cost escalation | B39: % | C39: 0.05 | D39: EXAMPLE DATA
A40: Depreciation, tax and working capital
A41: Building life (straight line) | B41: years | C41: 30 | D41: EXAMPLE DATA
A42: Plant and equipment life (straight line) | B42: years | C42: 15 | D42: EXAMPLE DATA
...

Sheet Capex_Funding
A1: Ambravik Cold Chain (fictional) - Cost of project and means of finance
A2: EXAMPLE DATA - fictional project. Units Rs lakh unless stated. Formulas only; edit assumptions on the Inputs sheet.
A3: Line item | B3: Unit | C3: Year 0 | D3: Year 1 | E3: Year 2 | F3: Year 3 | G3: Year 4 | H3: Year 5 | I3: Year 6 | J3: Year 7 | K3: Year 8 | L3: Year 9 | M3: Year 10
A4: Cost of project (Year 0)
A5: Land and site development | B5: Rs lakh | C5: =Inputs!$C$10 -> 40
A6: Building and civil works | B6: Rs lakh | C6: =Inputs!$C$11 -> 230
A7: Refrigeration plant and machinery | B7: Rs lakh | C7: =Inputs!$C$12 -> 250
A8: Insulated panels, doors and racking | B8: Rs lakh | C8: =Inputs!$C$13 -> 95
A9: Electricals, DG set and fire safety | B9: Rs lakh | C9: =Inputs!$C$14 -> 48
A10: Rooftop solar plant | B10: Rs lakh | C10: =Inputs!$C$15 -> 36
A11: Sub-total: building, plant and equipment | B11: Rs lakh | C11: =SUM(C6:C10) -> 659
A12: Contingency | B12: Rs lakh | C12: =C11*Inputs!$C$16 -> 32.95
A13: Preliminary and pre-operative expenses | B13: Rs lakh | C13: =Inputs!$C$17 -> 22
A14: Total capital cost | B14: Rs lakh | C14: =C5+C11+C12+C13 -> 753.95
A15: Margin money / initial cash reserve | B15: Rs lakh | C15: =Inputs!$C$18 -> 18
A16: Total project cost | B16: Rs lakh | C16: =C14+C15 -> 771.95
A18: Means of finance
A19: Term loan | B19: Rs lakh | C19: =C16*Inputs!$C$20 -> 463.17
A20: Promoter equity | B20: Rs lakh | C20: =C16-C19 -> 308.78
A21: Total means of finance | B21: Rs lakh | C21: =C19+C20 -> 771.95
A22: Debt : equity | B22: x | C22: =C19/C20 -> 1.5
A24: Asset blocks for depreciation (contingency allocated pro rata)
A25: Building block | B25: Rs lakh | C25: =C6*(1+Inputs!$C$16) -> 241.5
A26: Plant and equipment at cost (before contingency) | B26: Rs lakh | C26: =C7+C8+C9+C10 -> 429
A27: Plant and equipment block | B27: Rs lakh | C27: =C26*(1+Inputs!$C$16) -> 450.45

Sheet Revenue_Costs
A1: Ambravik Cold Chain (fictional) - Revenue, operating costs, depreciation and working capital
A2: EXAMPLE DATA - fictional project. Units Rs lakh unless stated. Formulas only; edit assumptions on the Inputs sheet.
A3: Line item | B3: Unit | C3: Year 0 | D3: Year 1 | E3: Year 2 | F3: Year 3 | G3: Year 4 | H3: Year 5 | I3: Year 6 | J3: Year 7 | K3: Year 8 | L3: Year 9 | M3: Year 10
A4: Revenue build-up
A5: Capacity utilisation | B5: % | D5: =MAX(0,MIN(1,Inputs!D$56)) -> 0.55 | E5: =MAX(0,MIN(1,Inputs!E$56)) -> 0.65 | F5: =MAX(0,MIN(1,Inputs!F$56)) -> 0.75 | G5: =MAX(0,MIN(1,Inputs!G$56)) -> 0.8 | H5: =MAX(0,MIN(1,Inputs!H$56)) -> 0.8 | I5: =MAX(0,MIN(1,Inputs!I$56)) -> 0.82 | J5: =MAX(0,MIN(1,Inputs!J$56)) -> 0.82 | K5: =MAX(0,MIN(1,Inputs!K$56)) -> 0.82 | ... M5: =MAX(0,MIN(1,Inputs!M$56)) -> 0.82
A6: Average quantity stored | B6: MT | D6: =Inputs!$C$25*D5 -> 2750 | E6: =Inputs!$C$25*E5 -> 3250 | F6: =Inputs!$C$25*F5 -> 3750 | G6: =Inputs!$C$25*G5 -> 4000 | H6: =Inputs!$C$25*H5 -> 4000 | I6: =Inputs!$C$25*I5 -> 4100 | J6: =Inputs!$C$25*J5 -> 4100 | K6: =Inputs!$C$25*K5 -> 4100 | ... M6: =Inputs!$C$25*M5 -> 4100
A7: Storage rent per MT per year | B7: Rs per MT | D7: =Inputs!$C$26*(1+Inputs!$C$27)^(Inputs!D$6-1) -> 6000 | E7: =Inputs!$C$26*(1+Inputs!$C$27)^(Inputs!E$6-1) -> 6240 | F7: =Inputs!$C$26*(1+Inputs!$C$27)^(Inputs!F$6-1) -> 6489.6 | G7: =Inputs!$C$26*(1+Inputs!$C$27)^(Inputs!G$6-1) -> 6749.184 | H7: =Inputs!$C$26*(1+Inputs!$C$27)^(Inputs!H$6-1) -> 7019.1514 | I7: =Inputs!$C$26*(1+Inputs!$C$27)^(Inputs!I$6-1) -> 7299.9174 | J7: =Inputs!$C$26*(1+Inputs!$C$27)^(Inputs!J$6-1) -> 7591.9141 | K7: =Inputs!$C$26*(1+Inputs!$C$27)^(Inputs!K$6-1) -> 7895.5907 | ... M7: =Inputs!$C$26*(1+Inputs!$C$27)^(Inputs!M$6-1) -> 8539.8709
A8: Storage rent income | B8: Rs lakh | D8: =D6*D7/Inputs!$C$48 -> 165 | E8: =E6*E7/Inputs!$C$48 -> 202.8 | F8: =F6*F7/Inputs!$C$48 -> 243.36 | G8: =G6*G7/Inputs!$C$48 -> 269.96736 | H8: =H6*H7/Inputs!$C$48 -> 280.76605 | I8: =I6*I7/Inputs!$C$48 -> 299.29661 | J8: =J6*J7/Inputs!$C$48 -> 311.26848 | K8: =K6*K7/Inputs!$C$48 -> 323.71922 | ... M8: =M6*M7/Inputs!$C$48 -> 350.13471
A9: Ancillary income | B9: Rs lakh | D9: =D8*Inputs!$C$28 -> 16.5 | E9: =E8*Inputs!$C$28 -> 20.28 | F9: =F8*Inputs!$C$28 -> 24.336 | G9: =G8*Inputs!$C$28 -> 26.996736 | H9: =H8*Inputs!$C$28 -> 28.076605 | I9: =I8*Inputs!$C$28 -> 29.929661 | J9: =J8*Inputs!$C$28 -> 31.126848 | K9: =K8*Inputs!$C$28 -> 32.371922 | ... M9: =M8*Inputs!$C$28 -> 35.013471
A10: Total revenue | B10: Rs lakh | D10: =D8+D9 -> 181.5 | E10: =E8+E9 -> 223.08 | F10: =F8+F9 -> 267.696 | G10: =G8+G9 -> 296.9641 | H10: =H8+H9 -> 308.84266 | I10: =I8+I9 -> 329.22628 | J10: =J8+J9 -> 342.39533 | K10: =K8+K9 -> 356.09114 | ... M10: =M8+M9 -> 385.14818
A12: Operating cost build-up
A13: Grid power (gross) | B13: Rs lakh | D13: =D6*Inputs!$C$30*(1+Inputs!$C$31)^(Inputs!D$6-1)/Inputs!$C$48 -> 26.125 | E13: =E6*Inputs!$C$30*(1+Inputs!$C$31)^(Inputs!E$6-1)/Inputs!$C$48 -> 32.41875 | F13: =F6*Inputs!$C$30*(1+Inputs!$C$31)^(Inputs!F$6-1)/Inputs!$C$48 -> 39.276562 | G13: =G6*Inputs!$C$30*(1+Inputs!$C$31)^(Inputs!G$6-1)/Inputs!$C$48 -> 43.98975 | H13: =H6*Inputs!$C$30*(1+Inputs!$C$31)^(Inputs!H$6-1)/Inputs!$C$48 -> 46.189237 | I13: =I6*Inputs!$C$30*(1+Inputs!$C$31)^(Inputs!I$6-1)/Inputs!$C$48 -> 49.711167 | J13: =J6*Inputs!$C$30*(1+Inputs!$C$31)^(Inputs!J$6-1)/Inputs!$C$48 -> 52.196725 | K13: =K6*Inputs!$C$30*(1+Inputs!$C$31)^(Inputs!K$6-1)/Inputs!$C$48 -> 54.806561 | ... M13: =M6*Inputs!$C$30*(1+Inputs!$C$31)^(Inputs!M$6-1)/Inputs!$C$48 -> 60.424234
A14: Less: solar offset | B14: Rs lakh | D14: =-D13*Inputs!$C$32 -> -4.7025 | E14: =-E13*Inputs!$C$32 -> -5.835375 | F14: =-F13*Inputs!$C$32 -> -7.0697813 | G14: =-G13*Inputs!$C$32 -> -7.918155 | H14: =-H13*Inputs!$C$32 -> -8.3140627 | I14: =-I13*Inputs!$C$32 -> -8.94801 | J14: =-J13*Inputs!$C$32 -> -9.3954105 | K14: =-K13*Inputs!$C$32 -> -9.8651811 | ... M14: =-M13*Inputs!$C$32 -> -10.876362
A15: Consumables and packing | B15: Rs lakh | D15: =D10*Inputs!$C$33 -> 5.445 | E15: =E10*Inputs!$C$33 -> 6.6924 | F15: =F10*Inputs!$C$33 -> 8.03088 | G15: =G10*Inputs!$C$33 -> 8.9089229 | H15: =H10*Inputs!$C$33 -> 9.2652798 | I15: =I10*Inputs!$C$33 -> 9.8767883 | J15: =J10*Inputs!$C$33 -> 10.27186 | K15: =K10*Inputs!$C$33 -> 10.682734 | ... M15: =M10*Inputs!$C$33 -> 11.554445
A16: Salaries and wages | B16: Rs lakh | D16: =Inputs!$C$34*(1+Inputs!$C$35)^(Inputs!D$6-1) -> 32 | E16: =Inputs!$C$34*(1+Inputs!$C$35)^(Inputs!E$6-1) -> 33.92 | F16: =Inputs!$C$34*(1+Inputs!$C$35)^(Inputs!F$6-1) -> 35.9552 | G16: =Inputs!$C$34*(1+Inputs!$C$35)^(Inputs!G$6-1) -> 38.112512 | H16: =Inputs!$C$34*(1+Inputs!$C$35)^(Inputs!H$6-1) -> 40.399263 | I16: =Inputs!$C$34*(1+Inputs!$C$35)^(Inputs!I$6-1) -> 42.823218 | J16: =Inputs!$C$34*(1+Inputs!$C$35)^(Inputs!J$6-1) -> 45.392612 | K16: =Inputs!$C$34*(1+Inputs!$C$35)^(Inputs!K$6-1) -> 48.116168 | ... M16: =Inputs!$C$34*(1+Inputs!$C$35)^(Inputs!M$6-1) -> 54.063327
A17: Repairs and maintenance | B17: Rs lakh | D17: =Capex_Funding!$C$26*Inputs!$C$36 -> 6.435 | E17: =Capex_Funding!$C$26*Inputs!$C$36 -> 6.435 | F17: =Capex_Funding!$C$26*Inputs!$C$36 -> 6.435 | G17: =Capex_Funding!$C$26*Inputs!$C$36 -> 6.435 | H17: =Capex_Funding!$C$26*Inputs!$C$36 -> 6.435 | I17: =Capex_Funding!$C$26*Inputs!$C$36 -> 6.435 | J17: =Capex_Funding!$C$26*Inputs!$C$36 -> 6.435 | K17: =Capex_Funding!$C$26*Inputs!$C$36 -> 6.435 | ... M17: =Capex_Funding!$C$26*Inputs!$C$36 -> 6.435
A18: Insurance | B18: Rs lakh | D18: =(Capex_Funding!$C$25+Capex_Funding!$C$27)*Inputs!$C$37 -> 2.7678 | E18: =(Capex_Funding!$C$25+Capex_Funding!$C$27)*Inputs!$C$37 -> 2.7678 | F18: =(Capex_Funding!$C$25+Capex_Funding!$C$27)*Inputs!$C$37 -> 2.7678 | G18: =(Capex_Funding!$C$25+Capex_Funding!$C$27)*Inputs!$C$37 -> 2.7678 | H18: =(Capex_Funding!$C$25+Capex_Funding!$C$27)*Inputs!$C$37 -> 2.7678 | I18: =(Capex_Funding!$C$25+Capex_Funding!$C$27)*Inputs!$C$37 -> 2.7678 | J18: =(Capex_Funding!$C$25+Capex_Funding!$C$27)*Inputs!$C$37 -> 2.7678 | K18: =(Capex_Funding!$C$25+Capex_Funding!$C$27)*Inputs!$C$37 -> 2.7678 | ... M18: =(Capex_Funding!$C$25+Capex_Funding!$C$27)*Inputs!$C$37 -> 2.7678
A19: Administration and marketing | B19: Rs lakh | D19: =Inputs!$C$38*(1+Inputs!$C$39)^(Inputs!D$6-1) -> 9 | E19: =Inputs!$C$38*(1+Inputs!$C$39)^(Inputs!E$6-1) -> 9.45 | F19: =Inputs!$C$38*(1+Inputs!$C$39)^(Inputs!F$6-1) -> 9.9225 | G19: =Inputs!$C$38*(1+Inputs!$C$39)^(Inputs!G$6-1) -> 10.418625 | H19: =Inputs!$C$38*(1+Inputs!$C$39)^(Inputs!H$6-1) -> 10.939556 | I19: =Inputs!$C$38*(1+Inputs!$C$39)^(Inputs!I$6-1) -> 11.486534 | J19: =Inputs!$C$38*(1+Inputs!$C$39)^(Inputs!J$6-1) -> 12.060861 | K19: =Inputs!$C$38*(1+Inputs!$C$39)^(Inputs!K$6-1) -> 12.663904 | ... M19: =Inputs!$C$38*(1+Inputs!$C$39)^(Inputs!M$6-1) -> 13.961954
A20: Total operating costs | B20: Rs lakh | D20: =SUM(D13:D19) -> 77.0703 | E20: =SUM(E13:E19) -> 85.848575 | F20: =SUM(F13:F19) -> 95.318161 | G20: =SUM(G13:G19) -> 102.71445 | H20: =SUM(H13:H19) -> 107.68207 | I20: =SUM(I13:I19) -> 114.1525 | J20: =SUM(J13:J19) -> 119.72945 | K20: =SUM(K13:K19) -> 125.60699 | ... M20: =SUM(M13:M19) -> 138.3304
A21: of which variable (power net of solar, consumables) | B21: Rs lakh | D21: =D13+D14+D15 -> 26.8675 | E21: =E13+E14+E15 -> 33.275775 | F21: =F13+F14+F15 -> 40.237661 | G21: =G13+G14+G15 -> 44.980518 | H21: =H13+H14+H15 -> 47.140455 | I21: =I13+I14+I15 -> 50.639945 | J21: =J13+J14+J15 -> 53.073174 | K21: =K13+K14+K15 -> 55.624115 | ... M21: =M13+M14+M15 -> 61.102317
A22: of which fixed (salaries, R&M, insurance, admin) | B22: Rs lakh | D22: =D16+D17+D18+D19 -> 50.2028 | E22: =E16+E17+E18+E19 -> 52.5728 | F22: =F16+F17+F18+F19 -> 55.0805 | G22: =G16+G17+G18+G19 -> 57.733937 | H22: =H16+H17+H18+H19 -> 60.541619 | I22: =I16+I17+I18+I19 -> 63.512553 | J22: =J16+J17+J18+J19 -> 66.656272 | K22: =K16+K17+K18+K19 -> 69.982872 | ... M22: =M16+M17+M18+M19 -> 77.228081
A23: EBITDA | B23: Rs lakh | D23: =D10-D20 -> 104.4297 | E23: =E10-E20 -> 137.23143 | F23: =F10-F20 -> 172.37784 | G23: =G10-G20 -> 194.24964 | H23: =H10-H20 -> 201.16059 | I23: =I10-I20 -> 215.07378 | J23: =J10-J20 -> 222.66588 | K23: =K10-K20 -> 230.48415 | ... M23: =M10-M20 -> 246.81778
A25: Depreciation and fixed assets
A26: Depreciation: building | B26: Rs lakh | D26: =IF(Inputs!D$6<=Inputs!$C$41,Capex_Funding!$C$25/Inputs!$C$41,0) -> 8.05 | E26: =IF(Inputs!E$6<=Inputs!$C$41,Capex_Funding!$C$25/Inputs!$C$41,0) -> 8.05 | F26: =IF(Inputs!F$6<=Inputs!$C$41,Capex_Funding!$C$25/Inputs!$C$41,0) -> 8.05 | G26: =IF(Inputs!G$6<=Inputs!$C$41,Capex_Funding!$C$25/Inputs!$C$41,0) -> 8.05 | H26: =IF(Inputs!H$6<=Inputs!$C$41,Capex_Funding!$C$25/Inputs!$C$41,0) -> 8.05 | I26: =IF(Inputs!I$6<=Inputs!$C$41,Capex_Funding!$C$25/Inputs!$C$41,0) -> 8.05 | J26: =IF(Inputs!J$6<=Inputs!$C$41,Capex_Funding!$C$25/Inputs!$C$41,0) -> 8.05 | K26: =IF(Inputs!K$6<=Inputs!$C$41,Capex_Funding!$C$25/Inputs!$C$41,0) -> 8.05 | ... M26: =IF(Inputs!M$6<=Inputs!$C$41,Capex_Funding!$C$25/Inputs!$C$41,0) -> 8.05
A27: Depreciation: plant and equipment | B27: Rs lakh | D27: =IF(Inputs!D$6<=Inputs!$C$42,Capex_Funding!$C$27/Inputs!$C$42,0) -> 30.03 | E27: =IF(Inputs!E$6<=Inputs!$C$42,Capex_Funding!$C$27/Inputs!$C$42,0) -> 30.03 | F27: =IF(Inputs!F$6<=Inputs!$C$42,Capex_Funding!$C$27/Inputs!$C$42,0) -> 30.03 | G27: =IF(Inputs!G$6<=Inputs!$C$42,Capex_Funding!$C$27/Inputs!$C$42,0) -> 30.03 | H27: =IF(Inputs!H$6<=Inputs!$C$42,Capex_Funding!$C$27/Inputs!$C$42,0) -> 30.03 | I27: =IF(Inputs!I$6<=Inputs!$C$42,Capex_Funding!$C$27/Inputs!$C$42,0) -> 30.03 | J27: =IF(Inputs!J$6<=Inputs!$C$42,Capex_Funding!$C$27/Inputs!$C$42,0) -> 30.03 | K27: =IF(Inputs!K$6<=Inputs!$C$42,Capex_Funding!$C$27/Inputs!$C$42,0) -> 30.03 | ... M27: =IF(Inputs!M$6<=Inputs!$C$42,Capex_Funding!$C$27/Inputs!$C$42,0) -> 30.03
A28: Write-off: pre-operative expenses | B28: Rs lakh | D28: =IF(Inputs!D$6<=Inputs!$C$43,Capex_Funding!$C$13/Inputs!$C$43,0) -> 4.4 | E28: =IF(Inputs!E$6<=Inputs!$C$43,Capex_Funding!$C$13/Inputs!$C$43,0) -> 4.4 | F28: =IF(Inputs!F$6<=Inputs!$C$43,Capex_Funding!$C$13/Inputs!$C$43,0) -> 4.4 | G28: =IF(Inputs!G$6<=Inputs!$C$43,Capex_Funding!$C$13/Inputs!$C$43,0) -> 4.4 | H28: =IF(Inputs!H$6<=Inputs!$C$43,Capex_Funding!$C$13/Inputs!$C$43,0) -> 4.4 | I28: =IF(Inputs!I$6<=Inputs!$C$43,Capex_Funding!$C$13/Inputs!$C$43,0) -> 0 | J28: =IF(Inputs!J$6<=Inputs!$C$43,Capex_Funding!$C$13/Inputs!$C$43,0) -> 0 | K28: =IF(Inputs!K$6<=Inputs!$C$43,Capex_Funding!$C$13/Inputs!$C$43,0) -> 0 | ... M28: =IF(Inputs!M$6<=Inputs!$C$43,Capex_Funding!$C$13/Inputs!$C$43,0) -> 0
A29: Total depreciation and amortisation | B29: Rs lakh | D29: =SUM(D26:D28) -> 42.48 | E29: =SUM(E26:E28) -> 42.48 | F29: =SUM(F26:F28) -> 42.48 | G29: =SUM(G26:G28) -> 42.48 | H29: =SUM(H26:H28) -> 42.48 | I29: =SUM(I26:I28) -> 38.08 | J29: =SUM(J26:J28) -> 38.08 | K29: =SUM(K26:K28) -> 38.08 | ... M29: =SUM(M26:M28) -> 38.08
A30: Net fixed assets (closing) | B30: Rs lakh | C30: =Capex_Funding!C14 -> 753.95 | D30: =C30-D29 -> 711.47 | E30: =D30-E29 -> 668.99 | F30: =E30-F29 -> 626.51 | G30: =F30-G29 -> 584.03 | H30: =G30-H29 -> 541.55 | I30: =H30-I29 -> 503.47 | J30: =I30-J29 -> 465.39 | K30: =J30-K29 -> 427.31 | ... M30: =L30-M29 -> 351.15
A32: Working capital
A33: Trade receivables | B33: Rs lakh | C33: =0 -> 0 | D33: =D10*Inputs!$C$45/Inputs!$C$47 -> 22.376712 | E33: =E10*Inputs!$C$45/Inputs!$C$47 -> 27.503014 | F33: =F10*Inputs!$C$45/Inputs!$C$47 -> 33.003616 | G33: =G10*Inputs!$C$45/Inputs!$C$47 -> 36.612012 | H33: =H10*Inputs!$C$45/Inputs!$C$47 -> 38.076492 | I33: =I10*Inputs!$C$45/Inputs!$C$47 -> 40.589541 | J33: =J10*Inputs!$C$45/Inputs!$C$47 -> 42.213122 | K33: =K10*Inputs!$C$45/Inputs!$C$47 -> 43.901647 | ... M33: =M10*Inputs!$C$45/Inputs!$C$47 -> 47.484022
A34: Trade payables | B34: Rs lakh | C34: =0 -> 0 | D34: =D20*Inputs!$C$46/Inputs!$C$47 -> 6.3345452 | E34: =E20*Inputs!$C$46/Inputs!$C$47 -> 7.0560473 | F34: =F20*Inputs!$C$46/Inputs!$C$47 -> 7.8343694 | G34: =G20*Inputs!$C$46/Inputs!$C$47 -> 8.442284 | H34: =H20*Inputs!$C$46/Inputs!$C$47 -> 8.8505814 | I34: =I20*Inputs!$C$46/Inputs!$C$47 -> 9.3823971 | J34: =J20*Inputs!$C$46/Inputs!$C$47 -> 9.8407765 | K34: =K20*Inputs!$C$46/Inputs!$C$47 -> 10.323862 | ... M34: =M20*Inputs!$C$46/Inputs!$C$47 -> 11.369622
A35: Net working capital | B35: Rs lakh | C35: =C33-C34 -> 0 | D35: =D33-D34 -> 16.042167 | E35: =E33-E34 -> 20.446966 | F35: =F33-F34 -> 25.169247 | G35: =G33-G34 -> 28.169728 | H35: =H33-H34 -> 29.225911 | I35: =I33-I34 -> 31.207144 | J35: =J33-J34 -> 32.372346 | ... M35: =M33-M34 -> 36.1144

Sheet Loan
A1: Ambravik Cold Chain (fictional) - Term loan schedule
A2: EXAMPLE DATA - fictional project. Units Rs lakh unless stated. Formulas only; edit assumptions on the Inputs sheet.
A3: Line item | B3: Unit | C3: Year 0 | D3: Year 1 | E3: Year 2 | F3: Year 3 | G3: Year 4 | H3: Year 5 | I3: Year 6 | J3: Year 7 | K3: Year 8 | L3: Year 9 | M3: Year 10
A4: Term loan schedule
A5: Opening balance | B5: Rs lakh | C5: =0 -> 0 | D5: =C10 -> 463.17 | E5: =D10 -> 463.17 | F5: =E10 -> 463.17 | G5: =F10 -> 397.00286 | H5: =G10 -> 330.83571 | I5: =H10 -> 264.66857 | J5: =I10 -> 198.50143 | K5: =J10 -> 132.33429 | ... M5: =L10 -> 0
A6: Drawdown | B6: Rs lakh | C6: =Capex_Funding!C19 -> 463.17 | D6: =0 -> 0 | E6: =0 -> 0 | F6: =0 -> 0 | G6: =0 -> 0 | H6: =0 -> 0 | I6: =0 -> 0 | J6: =0 -> 0 | K6: =0 -> 0 | ... M6: =0 -> 0
A7: Interest rate | B7: % | C7: =Inputs!$C$21 -> 0.105 | D7: =Inputs!$C$21 -> 0.105 | E7: =Inputs!$C$21 -> 0.105 | F7: =Inputs!$C$21 -> 0.105 | G7: =Inputs!$C$21 -> 0.105 | H7: =Inputs!$C$21 -> 0.105 | I7: =Inputs!$C$21 -> 0.105 | J7: =Inputs!$C$21 -> 0.105 | ... M7: =Inputs!$C$21 -> 0.105
A8: Interest (on opening balance) | B8: Rs lakh | C8: =0 -> 0 | D8: =D5*D7 -> 48.63285 | E8: =E5*E7 -> 48.63285 | F8: =F5*F7 -> 48.63285 | G8: =G5*G7 -> 41.6853 | H8: =H5*H7 -> 34.73775 | I8: =I5*I7 -> 27.7902 | J8: =J5*J7 -> 20.84265 | K8: =K5*K7 -> 13.8951 | ... M8: =M5*M7 -> 0
A9: Principal repayment | B9: Rs lakh | C9: =0 -> 0 | D9: =IF(AND(Inputs!D$6>Inputs!$C$22,Inputs!D$6<=Inputs!$C$22+Inputs!$C$23),MIN(D5,Capex_Funding!$C$19/Inputs!$C$23),0) -> 0 | E9: =IF(AND(Inputs!E$6>Inputs!$C$22,Inputs!E$6<=Inputs!$C$22+Inputs!$C$23),MIN(E5,Capex_Funding!$C$19/Inputs!$C$23),0) -> 0 | F9: =IF(AND(Inputs!F$6>Inputs!$C$22,Inputs!F$6<=Inputs!$C$22+Inputs!$C$23),MIN(F5,Capex_Funding!$C$19/Inputs!$C$23),0) -> 66.167143 | G9: =IF(AND(Inputs!G$6>Inputs!$C$22,Inputs!G$6<=Inputs!$C$22+Inputs!$C$23),MIN(G5,Capex_Funding!$C$19/Inputs!$C$23),0) -> 66.167143 | H9: =IF(AND(Inputs!H$6>Inputs!$C$22,Inputs!H$6<=Inputs!$C$22+Inputs!$C$23),MIN(H5,Capex_Funding!$C$19/Inputs!$C$23),0) -> 66.167143 | I9: =IF(AND(Inputs!I$6>Inputs!$C$22,Inputs!I$6<=Inputs!$C$22+Inputs!$C$23),MIN(I5,Capex_Funding!$C$19/Inputs!$C$23),0) -> 66.167143 | J9: =IF(AND(Inputs!J$6>Inputs!$C$22,Inputs!J$6<=Inputs!$C$22+Inputs!$C$23),MIN(J5,Capex_Funding!$C$19/Inputs!$C$23),0) -> 66.167143 | K9: =IF(AND(Inputs!K$6>Inputs!$C$22,Inputs!K$6<=Inputs!$C$22+Inputs!$C$23),MIN(K5,Capex_Funding!$C$19/Inputs!$C$23),0) -> 66.167143 | ... M9: =IF(AND(Inputs!M$6>Inputs!$C$22,Inputs!M$6<=Inputs!$C$22+Inputs!$C$23),MIN(M5,Capex_Funding!$C$19/Inputs!$C$23),0) -> 0
A10: Closing balance | B10: Rs lakh | C10: =C5+C6-C9 -> 463.17 | D10: =D5+D6-D9 -> 463.17 | E10: =E5+E6-E9 -> 463.17 | F10: =F5+F6-F9 -> 397.00286 | G10: =G5+G6-G9 -> 330.83571 | H10: =H5+H6-H9 -> 264.66857 | I10: =I5+I6-I9 -> 198.50143 | J10: =J5+J6-J9 -> 132.33429 | ... M10: =M5+M6-M9 -> 0

Sheet PnL
A1: Ambravik Cold Chain (fictional) - Projected profit and loss
A2: EXAMPLE DATA - fictional project. Units Rs lakh unless stated. Formulas only; edit assumptions on the Inputs sheet.
A3: Line item | B3: Unit | C3: Year 0 | D3: Year 1 | E3: Year 2 | F3: Year 3 | G3: Year 4 | H3: Year 5 | I3: Year 6 | J3: Year 7 | K3: Year 8 | L3: Year 9 | M3: Year 10
A4: Projected profit and loss
A5: Total revenue | B5: Rs lakh | D5: =Revenue_Costs!D10 -> 181.5 | E5: =Revenue_Costs!E10 -> 223.08 | F5: =Revenue_Costs!F10 -> 267.696 | G5: =Revenue_Costs!G10 -> 296.9641 | H5: =Revenue_Costs!H10 -> 308.84266 | I5: =Revenue_Costs!I10 -> 329.22628 | J5: =Revenue_Costs!J10 -> 342.39533 | K5: =Revenue_Costs!K10 -> 356.09114 | ... M5: =Revenue_Costs!M10 -> 385.14818
A6: Operating costs | B6: Rs lakh | D6: =Revenue_Costs!D20 -> 77.0703 | E6: =Revenue_Costs!E20 -> 85.848575 | F6: =Revenue_Costs!F20 -> 95.318161 | G6: =Revenue_Costs!G20 -> 102.71445 | H6: =Revenue_Costs!H20 -> 107.68207 | I6: =Revenue_Costs!I20 -> 114.1525 | J6: =Revenue_Costs!J20 -> 119.72945 | K6: =Revenue_Costs!K20 -> 125.60699 | ... M6: =Revenue_Costs!M20 -> 138.3304
A7: EBITDA | B7: Rs lakh | D7: =D5-D6 -> 104.4297 | E7: =E5-E6 -> 137.23143 | F7: =F5-F6 -> 172.37784 | G7: =G5-G6 -> 194.24964 | H7: =H5-H6 -> 201.16059 | I7: =I5-I6 -> 215.07378 | J7: =J5-J6 -> 222.66588 | K7: =K5-K6 -> 230.48415 | ... M7: =M5-M6 -> 246.81778
A8: EBITDA margin | B8: % | D8: =IF(D5=0,0,D7/D5) -> 0.57537025 | E8: =IF(E5=0,0,E7/E5) -> 0.61516687 | F8: =IF(F5=0,0,F7/F5) -> 0.64393132 | G8: =IF(G5=0,0,G7/G5) -> 0.65411827 | H8: =IF(H5=0,0,H7/H5) -> 0.65133679 | I8: =IF(I5=0,0,I7/I5) -> 0.65327039 | J8: =IF(J5=0,0,J7/J5) -> 0.6503181 | K8: =IF(K5=0,0,K7/K5) -> 0.64726169 | ... M8: =IF(M5=0,0,M7/M5) -> 0.6408385
A9: Depreciation and amortisation | B9: Rs lakh | D9: =Revenue_Costs!D29 -> 42.48 | E9: =Revenue_Costs!E29 -> 42.48 | F9: =Revenue_Costs!F29 -> 42.48 | G9: =Revenue_Costs!G29 -> 42.48 | H9: =Revenue_Costs!H29 -> 42.48 | I9: =Revenue_Costs!I29 -> 38.08 | J9: =Revenue_Costs!J29 -> 38.08 | K9: =Revenue_Costs!K29 -> 38.08 | ... M9: =Revenue_Costs!M29 -> 38.08
A10: EBIT | B10: Rs lakh | D10: =D7-D9 -> 61.9497 | E10: =E7-E9 -> 94.751425 | F10: =F7-F9 -> 129.89784 | G10: =G7-G9 -> 151.76964 | H10: =H7-H9 -> 158.68059 | I10: =I7-I9 -> 176.99378 | J10: =J7-J9 -> 184.58588 | K10: =K7-K9 -> 192.40415 | ... M10: =M7-M9 -> 208.73778
A11: Interest on term loan | B11: Rs lakh | D11: =Loan!D8 -> 48.63285 | E11: =Loan!E8 -> 48.63285 | F11: =Loan!F8 -> 48.63285 | G11: =Loan!G8 -> 41.6853 | H11: =Loan!H8 -> 34.73775 | I11: =Loan!I8 -> 27.7902 | J11: =Loan!J8 -> 20.84265 | K11: =Loan!K8 -> 13.8951 | ... M11: =Loan!M8 -> 0
A12: Profit before tax | B12: Rs lakh | D12: =D10-D11 -> 13.31685 | E12: =E10-E11 -> 46.118575 | F12: =F10-F11 -> 81.264989 | G12: =G10-G11 -> 110.08434 | H12: =H10-H11 -> 123.94284 | I12: =I10-I11 -> 149.20358 | J12: =J10-J11 -> 163.74323 | K12: =K10-K11 -> 178.50905 | ... M12: =M10-M11 -> 208.73778
A13: Tax losses brought forward | B13: Rs lakh | D13: =0 -> 0 | E13: =D15 -> 0 | F13: =E15 -> 0 | G13: =F15 -> 0 | H13: =G15 -> 0 | I13: =H15 -> 0 | J13: =I15 -> 0 | K13: =J15 -> 0 | L13: =K15 -> 0 | M13: =L15 -> 0
A14: Taxable profit | B14: Rs lakh | D14: =MAX(0,D12-D13) -> 13.31685 | E14: =MAX(0,E12-E13) -> 46.118575 | F14: =MAX(0,F12-F13) -> 81.264989 | G14: =MAX(0,G12-G13) -> 110.08434 | H14: =MAX(0,H12-H13) -> 123.94284 | I14: =MAX(0,I12-I13) -> 149.20358 | J14: =MAX(0,J12-J13) -> 163.74323 | K14: =MAX(0,K12-K13) -> 178.50905 | ... M14: =MAX(0,M12-M13) -> 208.73778
A15: Tax losses carried forward | B15: Rs lakh | D15: =MAX(0,D13-D12) -> 0 | E15: =MAX(0,E13-E12) -> 0 | F15: =MAX(0,F13-F12) -> 0 | G15: =MAX(0,G13-G12) -> 0 | H15: =MAX(0,H13-H12) -> 0 | I15: =MAX(0,I13-I12) -> 0 | J15: =MAX(0,J13-J12) -> 0 | K15: =MAX(0,K13-K12) -> 0 | ... M15: =MAX(0,M13-M12) -> 0
A16: Income tax | B16: Rs lakh | D16: =D14*Inputs!$C$44 -> 3.3518511 | E16: =E14*Inputs!$C$44 -> 11.608045 | F16: =F14*Inputs!$C$44 -> 20.454398 | G16: =G14*Inputs!$C$44 -> 27.708229 | H16: =H14*Inputs!$C$44 -> 31.196412 | I16: =I14*Inputs!$C$44 -> 37.554541 | J16: =J14*Inputs!$C$44 -> 41.214171 | K16: =K14*Inputs!$C$44 -> 44.930729 | ... M16: =M14*Inputs!$C$44 -> 52.539299
A17: Profit after tax | B17: Rs lakh | D17: =D12-D16 -> 9.9649989 | E17: =E12-E16 -> 34.51053 | F17: =F12-F16 -> 60.810591 | G17: =G12-G16 -> 82.376112 | H17: =H12-H16 -> 92.746424 | I17: =I12-I16 -> 111.64904 | J17: =J12-J16 -> 122.52906 | K17: =K12-K16 -> 133.57832 | ... M17: =M12-M16 -> 156.19848

Sheet CashFlow
A1: Ambravik Cold Chain (fictional) - Projected cash flow
A2: EXAMPLE DATA - fictional project. Units Rs lakh unless stated. Formulas only; edit assumptions on the Inputs sheet.
A3: Line item | B3: Unit | C3: Year 0 | D3: Year 1 | E3: Year 2 | F3: Year 3 | G3: Year 4 | H3: Year 5 | I3: Year 6 | J3: Year 7 | K3: Year 8 | L3: Year 9 | M3: Year 10
A4: Projected cash flow
A5: Profit after tax | B5: Rs lakh | C5: =0 -> 0 | D5: =PnL!D17 -> 9.9649989 | E5: =PnL!E17 -> 34.51053 | F5: =PnL!F17 -> 60.810591 | G5: =PnL!G17 -> 82.376112 | H5: =PnL!H17 -> 92.746424 | I5: =PnL!I17 -> 111.64904 | J5: =PnL!J17 -> 122.52906 | K5: =PnL!K17 -> 133.57832 | ... M5: =PnL!M17 -> 156.19848
A6: Add: depreciation and amortisation | B6: Rs lakh | C6: =0 -> 0 | D6: =Revenue_Costs!D29 -> 42.48 | E6: =Revenue_Costs!E29 -> 42.48 | F6: =Revenue_Costs!F29 -> 42.48 | G6: =Revenue_Costs!G29 -> 42.48 | H6: =Revenue_Costs!H29 -> 42.48 | I6: =Revenue_Costs!I29 -> 38.08 | J6: =Revenue_Costs!J29 -> 38.08 | K6: =Revenue_Costs!K29 -> 38.08 | ... M6: =Revenue_Costs!M29 -> 38.08
A7: Less: increase in receivables | B7: Rs lakh | C7: =0 -> 0 | D7: =-(Revenue_Costs!D33-Revenue_Costs!C33) -> -22.376712 | E7: =-(Revenue_Costs!E33-Revenue_Costs!D33) -> -5.1263014 | F7: =-(Revenue_Costs!F33-Revenue_Costs!E33) -> -5.5006027 | G7: =-(Revenue_Costs!G33-Revenue_Costs!F33) -> -3.6083954 | H7: =-(Revenue_Costs!H33-Revenue_Costs!G33) -> -1.4644805 | I7: =-(Revenue_Costs!I33-Revenue_Costs!H33) -> -2.5130485 | J7: =-(Revenue_Costs!J33-Revenue_Costs!I33) -> -1.6235816 | K7: =-(Revenue_Costs!K33-Revenue_Costs!J33) -> -1.6885249 | ... M7: =-(Revenue_Costs!M33-Revenue_Costs!L33) -> -1.8263085
A8: Add: increase in payables | B8: Rs lakh | C8: =0 -> 0 | D8: =Revenue_Costs!D34-Revenue_Costs!C34 -> 6.3345452 | E8: =Revenue_Costs!E34-Revenue_Costs!D34 -> 0.72150205 | F8: =Revenue_Costs!F34-Revenue_Costs!E34 -> 0.77832216 | G8: =Revenue_Costs!G34-Revenue_Costs!F34 -> 0.60791454 | H8: =Revenue_Costs!H34-Revenue_Costs!G34 -> 0.40829742 | I8: =Revenue_Costs!I34-Revenue_Costs!H34 -> 0.53181568 | J8: =Revenue_Costs!J34-Revenue_Costs!I34 -> 0.45837938 | K8: =Revenue_Costs!K34-Revenue_Costs!J34 -> 0.48308547 | ... M8: =Revenue_Costs!M34-Revenue_Costs!L34 -> 0.53661924
A9: Cash flow from operations | B9: Rs lakh | C9: =SUM(C5:C8) -> 0 | D9: =SUM(D5:D8) -> 36.402832 | E9: =SUM(E5:E8) -> 72.58573 | F9: =SUM(F5:F8) -> 98.56831 | G9: =SUM(G5:G8) -> 121.85563 | H9: =SUM(H5:H8) -> 134.17024 | I9: =SUM(I5:I8) -> 147.7478 | J9: =SUM(J5:J8) -> 159.44386 | ... M9: =SUM(M5:M8) -> 192.98879
A10: Capital expenditure | B10: Rs lakh | C10: =-Capex_Funding!C14 -> -753.95 | D10: =0 -> 0 | E10: =0 -> 0 | F10: =0 -> 0 | G10: =0 -> 0 | H10: =0 -> 0 | I10: =0 -> 0 | J10: =0 -> 0 | K10: =0 -> 0 | ... M10: =0 -> 0
A11: Cash flow from investing | B11: Rs lakh | C11: =C10 -> -753.95 | D11: =D10 -> 0 | E11: =E10 -> 0 | F11: =F10 -> 0 | G11: =G10 -> 0 | H11: =H10 -> 0 | I11: =I10 -> 0 | J11: =J10 -> 0 | ... M11: =M10 -> 0
A12: Equity infused | B12: Rs lakh | C12: =Capex_Funding!C20 -> 308.78 | D12: =0 -> 0 | E12: =0 -> 0 | F12: =0 -> 0 | G12: =0 -> 0 | H12: =0 -> 0 | I12: =0 -> 0 | J12: =0 -> 0 | K12: =0 -> 0 | ... M12: =0 -> 0
A13: Term loan drawn | B13: Rs lakh | C13: =Loan!C6 -> 463.17 | D13: =Loan!D6 -> 0 | E13: =Loan!E6 -> 0 | F13: =Loan!F6 -> 0 | G13: =Loan!G6 -> 0 | H13: =Loan!H6 -> 0 | I13: =Loan!I6 -> 0 | J13: =Loan!J6 -> 0 | ... M13: =Loan!M6 -> 0
A14: Term loan repaid | B14: Rs lakh | C14: =-Loan!C9 -> 0 | D14: =-Loan!D9 -> 0 | E14: =-Loan!E9 -> 0 | F14: =-Loan!F9 -> -66.167143 | G14: =-Loan!G9 -> -66.167143 | H14: =-Loan!H9 -> -66.167143 | I14: =-Loan!I9 -> -66.167143 | J14: =-Loan!J9 -> -66.167143 | ... M14: =-Loan!M9 -> 0
A15: Cash flow from financing | B15: Rs lakh | C15: =SUM(C12:C14) -> 771.95 | D15: =SUM(D12:D14) -> 0 | E15: =SUM(E12:E14) -> 0 | F15: =SUM(F12:F14) -> -66.167143 | G15: =SUM(G12:G14) -> -66.167143 | H15: =SUM(H12:H14) -> -66.167143 | I15: =SUM(I12:I14) -> -66.167143 | J15: =SUM(J12:J14) -> -66.167143 | ... M15: =SUM(M12:M14) -> 0
A16: Net change in cash | B16: Rs lakh | C16: =C9+C11+C15 -> 18 | D16: =D9+D11+D15 -> 36.402832 | E16: =E9+E11+E15 -> 72.58573 | F16: =F9+F11+F15 -> 32.401168 | G16: =G9+G11+G15 -> 55.688489 | H16: =H9+H11+H15 -> 68.003099 | I16: =I9+I11+I15 -> 81.580662 | J16: =J9+J11+J15 -> 93.276714 | ... M16: =M9+M11+M15 -> 192.98879
A17: Opening cash | B17: Rs lakh | C17: =0 -> 0 | D17: =C18 -> 18 | E17: =D18 -> 54.402832 | F17: =E18 -> 126.98856 | G17: =F18 -> 159.38973 | H17: =G18 -> 215.07822 | I17: =H18 -> 283.08132 | J17: =I18 -> 364.66198 | K17: =J18 -> 457.93869 | ... M17: =L18 -> 677.69068
A18: Closing cash | B18: Rs lakh | C18: =C17+C16 -> 18 | D18: =D17+D16 -> 54.402832 | E18: =E17+E16 -> 126.98856 | F18: =F17+F16 -> 159.38973 | G18: =G17+G16 -> 215.07822 | H18: =H17+H16 -> 283.08132 | I18: =I17+I16 -> 364.66198 | J18: =J17+J16 -> 457.93869 | ... M18: =M17+M16 -> 870.67948

Sheet BalanceSheet
A1: Ambravik Cold Chain (fictional) - Projected balance sheet
A2: EXAMPLE DATA - fictional project. Units Rs lakh unless stated. Formulas only; edit assumptions on the Inputs sheet.
A3: Line item | B3: Unit | C3: Year 0 | D3: Year 1 | E3: Year 2 | F3: Year 3 | G3: Year 4 | H3: Year 5 | I3: Year 6 | J3: Year 7 | K3: Year 8 | L3: Year 9 | M3: Year 10
A4: Projected balance sheet
A5: Net fixed assets | B5: Rs lakh | C5: =Revenue_Costs!C30 -> 753.95 | D5: =Revenue_Costs!D30 -> 711.47 | E5: =Revenue_Costs!E30 -> 668.99 | F5: =Revenue_Costs!F30 -> 626.51 | G5: =Revenue_Costs!G30 -> 584.03 | H5: =Revenue_Costs!H30 -> 541.55 | I5: =Revenue_Costs!I30 -> 503.47 | J5: =Revenue_Costs!J30 -> 465.39 | ... M5: =Revenue_Costs!M30 -> 351.15
A6: Trade receivables | B6: Rs lakh | C6: =Revenue_Costs!C33 -> 0 | D6: =Revenue_Costs!D33 -> 22.376712 | E6: =Revenue_Costs!E33 -> 27.503014 | F6: =Revenue_Costs!F33 -> 33.003616 | G6: =Revenue_Costs!G33 -> 36.612012 | H6: =Revenue_Costs!H33 -> 38.076492 | I6: =Revenue_Costs!I33 -> 40.589541 | J6: =Revenue_Costs!J33 -> 42.213122 | ... M6: =Revenue_Costs!M33 -> 47.484022
A7: Cash and bank | B7: Rs lakh | C7: =CashFlow!C18 -> 18 | D7: =CashFlow!D18 -> 54.402832 | E7: =CashFlow!E18 -> 126.98856 | F7: =CashFlow!F18 -> 159.38973 | G7: =CashFlow!G18 -> 215.07822 | H7: =CashFlow!H18 -> 283.08132 | I7: =CashFlow!I18 -> 364.66198 | J7: =CashFlow!J18 -> 457.93869 | ... M7: =CashFlow!M18 -> 870.67948
A8: Total assets | B8: Rs lakh | C8: =SUM(C5:C7) -> 771.95 | D8: =SUM(D5:D7) -> 788.24954 | E8: =SUM(E5:E7) -> 823.48158 | F8: =SUM(F5:F7) -> 818.90335 | G8: =SUM(G5:G7) -> 835.72023 | H8: =SUM(H5:H7) -> 862.70781 | I8: =SUM(I5:I7) -> 908.72152 | J8: =SUM(J5:J7) -> 965.54181 | ... M8: =SUM(M5:M7) -> 1269.3135
A9: Share capital | B9: Rs lakh | C9: =CashFlow!C12 -> 308.78 | D9: =C9+CashFlow!D12 -> 308.78 | E9: =D9+CashFlow!E12 -> 308.78 | F9: =E9+CashFlow!F12 -> 308.78 | G9: =F9+CashFlow!G12 -> 308.78 | H9: =G9+CashFlow!H12 -> 308.78 | I9: =H9+CashFlow!I12 -> 308.78 | J9: =I9+CashFlow!J12 -> 308.78 | K9: =J9+CashFlow!K12 -> 308.78 | ... M9: =L9+CashFlow!M12 -> 308.78
A10: Retained earnings | B10: Rs lakh | C10: =CashFlow!C5 -> 0 | D10: =C10+CashFlow!D5 -> 9.9649989 | E10: =D10+CashFlow!E5 -> 44.475529 | F10: =E10+CashFlow!F5 -> 105.28612 | G10: =F10+CashFlow!G5 -> 187.66223 | H10: =G10+CashFlow!H5 -> 280.40866 | I10: =H10+CashFlow!I5 -> 392.05769 | J10: =I10+CashFlow!J5 -> 514.58675 | K10: =J10+CashFlow!K5 -> 648.16508 | ... M10: =L10+CashFlow!M5 -> 949.16388
A11: Term loan | B11: Rs lakh | C11: =Loan!C10 -> 463.17 | D11: =Loan!D10 -> 463.17 | E11: =Loan!E10 -> 463.17 | F11: =Loan!F10 -> 397.00286 | G11: =Loan!G10 -> 330.83571 | H11: =Loan!H10 -> 264.66857 | I11: =Loan!I10 -> 198.50143 | J11: =Loan!J10 -> 132.33429 | ... M11: =Loan!M10 -> 0
A12: Trade payables | B12: Rs lakh | C12: =Revenue_Costs!C34 -> 0 | D12: =Revenue_Costs!D34 -> 6.3345452 | E12: =Revenue_Costs!E34 -> 7.0560473 | F12: =Revenue_Costs!F34 -> 7.8343694 | G12: =Revenue_Costs!G34 -> 8.442284 | H12: =Revenue_Costs!H34 -> 8.8505814 | I12: =Revenue_Costs!I34 -> 9.3823971 | J12: =Revenue_Costs!J34 -> 9.8407765 | ... M12: =Revenue_Costs!M34 -> 11.369622
A13: Total equity and liabilities | B13: Rs lakh | C13: =SUM(C9:C12) -> 771.95 | D13: =SUM(D9:D12) -> 788.24954 | E13: =SUM(E9:E12) -> 823.48158 | F13: =SUM(F9:F12) -> 818.90335 | G13: =SUM(G9:G12) -> 835.72023 | H13: =SUM(H9:H12) -> 862.70781 | I13: =SUM(I9:I12) -> 908.72152 | J13: =SUM(J9:J12) -> 965.54181 | ... M13: =SUM(M9:M12) -> 1269.3135
A14: Check: assets minus liabilities (must be 0) | B14: Rs lakh | C14: =ROUND(C8-C13,6) -> 0 | D14: =ROUND(D8-D13,6) -> 0 | E14: =ROUND(E8-E13,6) -> 0 | F14: =ROUND(F8-F13,6) -> 0 | G14: =ROUND(G8-G13,6) -> 0 | H14: =ROUND(H8-H13,6) -> 0 | I14: =ROUND(I8-I13,6) -> 0 | J14: =ROUND(J8-J13,6) -> 0 | ... M14: =ROUND(M8-M13,6) -> 0

Sheet Returns
A1: Ambravik Cold Chain (fictional) - DSCR, NPV, IRR, payback and break-even
A2: EXAMPLE DATA - fictional project. Units Rs lakh unless stated. Formulas only; edit assumptions on the Inputs sheet.
A3: Line item | B3: Unit | C3: Year 0 | D3: Year 1 | E3: Year 2 | F3: Year 3 | G3: Year 4 | H3: Year 5 | I3: Year 6 | J3: Year 7 | K3: Year 8 | L3: Year 9 | M3: Year 10
A4: Debt service coverage
A5: Cash available for debt service (PAT + D&A + interest) | B5: Rs lakh | D5: =PnL!D17+Revenue_Costs!D29+Loan!D8 -> 101.07785 | E5: =PnL!E17+Revenue_Costs!E29+Loan!E8 -> 125.62338 | F5: =PnL!F17+Revenue_Costs!F29+Loan!F8 -> 151.92344 | G5: =PnL!G17+Revenue_Costs!G29+Loan!G8 -> 166.54141 | H5: =PnL!H17+Revenue_Costs!H29+Loan!H8 -> 169.96417 | I5: =PnL!I17+Revenue_Costs!I29+Loan!I8 -> 177.51924 | J5: =PnL!J17+Revenue_Costs!J29+Loan!J8 -> 181.45171 | K5: =PnL!K17+Revenue_Costs!K29+Loan!K8 -> 185.55342 | ... M5: =PnL!M17+Revenue_Costs!M29+Loan!M8 -> 194.27848
A6: Debt service (interest + principal) | B6: Rs lakh | D6: =Loan!D8+Loan!D9 -> 48.63285 | E6: =Loan!E8+Loan!E9 -> 48.63285 | F6: =Loan!F8+Loan!F9 -> 114.79999 | G6: =Loan!G8+Loan!G9 -> 107.85244 | H6: =Loan!H8+Loan!H9 -> 100.90489 | I6: =Loan!I8+Loan!I9 -> 93.957343 | J6: =Loan!J8+Loan!J9 -> 87.009793 | K6: =Loan!K8+Loan!K9 -> 80.062243 | ... M6: =Loan!M8+Loan!M9 -> 0
A7: DSCR | B7: x | D7: =IF(D6>0,D5/D6,"") -> 2.0783863 | E7: =IF(E6>0,E5/E6,"") -> 2.5830972 | F7: =IF(F6>0,F5/F6,"") -> 1.323375 | G7: =IF(G6>0,G5/G6,"") -> 1.5441599 | H7: =IF(H6>0,H5/H6,"") -> 1.6843997 | I7: =IF(I6>0,I5/I6,"") -> 1.8893599 | J7: =IF(J6>0,J5/J6,"") -> 2.0854171 | K7: =IF(K6>0,K5/K6,"") -> 2.3176146 | ... M7: =IF(M6>0,M5/M6,"")
A8: Minimum DSCR (loan tenure) | B8: x | C8: =MIN(D7:M7) -> 1.323375
A9: Average DSCR (loan tenure) | B9: x | C9: =AVERAGE(D7:M7) -> 2.0113458
A11: Project (unlevered) cash flows and returns
A12: Tax on EBIT (unlevered, no loss carry-forward) | B12: Rs lakh | D12: =MAX(0,PnL!D10)*Inputs!$C$44 -> 15.592739 | E12: =MAX(0,PnL!E10)*Inputs!$C$44 -> 23.848934 | F12: =MAX(0,PnL!F10)*Inputs!$C$44 -> 32.695286 | G12: =MAX(0,PnL!G10)*Inputs!$C$44 -> 38.200419 | H12: =MAX(0,PnL!H10)*Inputs!$C$44 -> 39.939904 | I12: =MAX(0,PnL!I10)*Inputs!$C$44 -> 44.549334 | J12: =MAX(0,PnL!J10)*Inputs!$C$44 -> 46.460266 | K12: =MAX(0,PnL!K10)*Inputs!$C$44 -> 48.428125 | ... M12: =MAX(0,PnL!M10)*Inputs!$C$44 -> 52.539299
A13: Increase in net working capital | B13: Rs lakh | D13: =Revenue_Costs!D35-Revenue_Costs!C35 -> 16.042167 | E13: =Revenue_Costs!E35-Revenue_Costs!D35 -> 4.4047993 | F13: =Revenue_Costs!F35-Revenue_Costs!E35 -> 4.7222806 | G13: =Revenue_Costs!G35-Revenue_Costs!F35 -> 3.0004809 | H13: =Revenue_Costs!H35-Revenue_Costs!G35 -> 1.0561831 | I13: =Revenue_Costs!I35-Revenue_Costs!H35 -> 1.9812328 | J13: =Revenue_Costs!J35-Revenue_Costs!I35 -> 1.1652022 | K13: =Revenue_Costs!K35-Revenue_Costs!J35 -> 1.2054394 | ... M13: =Revenue_Costs!M35-Revenue_Costs!L35 -> 1.2896893
A14: Residual value + working capital recovery (Year 10) | B14: Rs lakh | D14: =0 -> 0 | E14: =0 -> 0 | F14: =0 -> 0 | G14: =0 -> 0 | H14: =0 -> 0 | I14: =0 -> 0 | J14: =0 -> 0 | K14: =0 -> 0 | L14: =0 -> 0 | M14: =Revenue_Costs!M30*Inputs!$C$52+Revenue_Costs!M35 -> 211.6894
A15: Project free cash flow | B15: Rs lakh | C15: =-Capex_Funding!C14 -> -753.95 | D15: =Revenue_Costs!D23-D12-D13+D14 -> 72.794793 | E15: =Revenue_Costs!E23-E12-E13+E14 -> 108.97769 | F15: =Revenue_Costs!F23-F12-F13+F14 -> 134.96027 | G15: =Revenue_Costs!G23-G12-G13+G14 -> 153.04874 | H15: =Revenue_Costs!H23-H12-H13+H14 -> 160.1645 | I15: =Revenue_Costs!I23-I12-I13+I14 -> 168.54321 | J15: =Revenue_Costs!J23-J12-J13+J14 -> 175.04041 | K15: =Revenue_Costs!K23-K12-K13+K14 -> 180.85059 | ... M15: =Revenue_Costs!M23-M12-M13+M14 -> 404.67819
A16: Cumulative project cash flow | B16: Rs lakh | C16: =C15 -> -753.95 | D16: =C16+D15 -> -681.15521 | E16: =D16+E15 -> -572.17751 | F16: =E16+F15 -> -437.21724 | G16: =F16+G15 -> -284.1685 | H16: =G16+H15 -> -124.004 | I16: =H16+I15 -> 44.53921 | J16: =I16+J15 -> 219.57962 | K16: =J16+K15 -> 400.43021 | ... M16: =L16+M15 -> 991.94065
A17: Discounted project cash flow | B17: Rs lakh | C17: =C15/(1+Inputs!$C$50)^Inputs!C$6 -> -753.95 | D17: =D15/(1+Inputs!$C$50)^Inputs!D$6 -> 65.580895 | E17: =E15/(1+Inputs!$C$50)^Inputs!E$6 -> 88.44874 | F17: =F15/(1+Inputs!$C$50)^Inputs!F$6 -> 98.681788 | G17: =G15/(1+Inputs!$C$50)^Inputs!G$6 -> 100.81795 | H17: =H15/(1+Inputs!$C$50)^Inputs!H$6 -> 95.049835 | I17: =I15/(1+Inputs!$C$50)^Inputs!I$6 -> 90.110083 | J17: =J15/(1+Inputs!$C$50)^Inputs!J$6 -> 84.309686 | ... M17: =M15/(1+Inputs!$C$50)^Inputs!M$6 -> 142.52138
A18: Cumulative discounted cash flow | B18: Rs lakh | C18: =C17 -> -753.95 | D18: =C18+D17 -> -688.36911 | E18: =D18+E17 -> -599.92037 | F18: =E18+F17 -> -501.23858 | G18: =F18+G17 -> -400.42063 | H18: =G18+H17 -> -305.3708 | I18: =H18+I17 -> -215.26071 | J18: =I18+J17 -> -130.95103 | K18: =J18+K17 -> -52.475164 | ... M18: =L18+M17 -> 163.08357
A19: Payback helper | B19: years | D19: =IF(AND(C16<0,D16>=0),Inputs!D$6-1+(-C16)/D15,"") | E19: =IF(AND(D16<0,E16>=0),Inputs!E$6-1+(-D16)/E15,"") | F19: =IF(AND(E16<0,F16>=0),Inputs!F$6-1+(-E16)/F15,"") | G19: =IF(AND(F16<0,G16>=0),Inputs!G$6-1+(-F16)/G15,"") | H19: =IF(AND(G16<0,H16>=0),Inputs!H$6-1+(-G16)/H15,"") | I19: =IF(AND(H16<0,I16>=0),Inputs!I$6-1+(-H16)/I15,"") -> 5.7357401 | J19: =IF(AND(I16<0,J16>=0),Inputs!J$6-1+(-I16)/J15,"") | K19: =IF(AND(J16<0,K16>=0),Inputs!K$6-1+(-J16)/K15,"") | ... M19: =IF(AND(L16<0,M16>=0),Inputs!M$6-1+(-L16)/M15,"")
A20: Discounted payback helper | B20: years | D20: =IF(AND(C18<0,D18>=0),Inputs!D$6-1+(-C18)/D17,"") | E20: =IF(AND(D18<0,E18>=0),Inputs!E$6-1+(-D18)/E17,"") | F20: =IF(AND(E18<0,F18>=0),Inputs!F$6-1+(-E18)/F17,"") | G20: =IF(AND(F18<0,G18>=0),Inputs!G$6-1+(-F18)/G17,"") | H20: =IF(AND(G18<0,H18>=0),Inputs!H$6-1+(-G18)/H17,"") | I20: =IF(AND(H18<0,I18>=0),Inputs!I$6-1+(-H18)/I17,"") | J20: =IF(AND(I18<0,J18>=0),Inputs!J$6-1+(-I18)/J17,"") | K20: =IF(AND(J18<0,K18>=0),Inputs!K$6-1+(-J18)/K17,"") | ... M20: =IF(AND(L18<0,M18>=0),Inputs!M$6-1+(-L18)/M17,"")
A21: Project NPV at discount rate | B21: Rs lakh | C21: =NPV(Inputs!$C$50,D15:M15)+C15 -> 163.08357
A22: Project IRR | B22: % | C22: =IRR(C15:M15) -> 0.14959511
A23: Benefit-cost ratio (PV inflows / PV outflows) | B23: x | C23: =SUMIF(C17:M17,">0")/-SUMIF(C17:M17,"<0") -> 1.2163055
A24: Simple payback (from start of operations) | B24: years | C24: =IF(COUNT(D19:M19)=0,"Beyond Year 10",MIN(D19:M19)) -> 5.7357401
A25: Discounted payback | B25: years | C25: =IF(COUNT(D20:M20)=0,"Beyond Year 10",MIN(D20:M20)) -> 8.7184702
A27: Equity cash flows and returns
A28: Free cash flow to equity | B28: Rs lakh | C28: =-Capex_Funding!C20 -> -308.78 | D28: =CashFlow!D9-Loan!D9 -> 36.402832 | E28: =CashFlow!E9-Loan!E9 -> 72.58573 | F28: =CashFlow!F9-Loan!F9 -> 32.401168 | G28: =CashFlow!G9-Loan!G9 -> 55.688489 | H28: =CashFlow!H9-Loan!H9 -> 68.003099 | I28: =CashFlow!I9-Loan!I9 -> 81.580662 | J28: =CashFlow!J9-Loan!J9 -> 93.276714 | K28: =CashFlow!K9-Loan!K9 -> 104.28574 | L28: =CashFlow!L9-Loan!L9 -> 115.46625 | M28: =CashFlow!M9-Loan!M9+Capex_Funding!C15+Revenue_Costs!M30*Inputs!$C$52+Revenue_Costs!M35 -> 422.67819
A29: Equity NPV at cost of equity | B29: Rs lakh | C29: =NPV(Inputs!$C$51,D28:M28)+C28 -> 129.6891
A30: Equity IRR | B30: % | C30: =IRR(C28:M28) -> 0.20876832
A32: Break-even analysis
A33: Contribution (revenue - variable costs) | B33: Rs lakh | D33: =Revenue_Costs!D10-Revenue_Costs!D21 -> 154.6325 | E33: =Revenue_Costs!E10-Revenue_Costs!E21 -> 189.80423 | F33: =Revenue_Costs!F10-Revenue_Costs!F21 -> 227.45834 | G33: =Revenue_Costs!G10-Revenue_Costs!G21 -> 251.98358 | H33: =Revenue_Costs!H10-Revenue_Costs!H21 -> 261.70221 | I33: =Revenue_Costs!I10-Revenue_Costs!I21 -> 278.58633 | J33: =Revenue_Costs!J10-Revenue_Costs!J21 -> 289.32215 | K33: =Revenue_Costs!K10-Revenue_Costs!K21 -> 300.46702 | ... M33: =Revenue_Costs!M10-Revenue_Costs!M21 -> 324.04586
A34: Break-even utilisation (fixed costs + D&A + interest) | B34: % | D34: =Revenue_Costs!D5*(Revenue_Costs!D22+Revenue_Costs!D29+Loan!D8)/D33 -> 0.50263436 | E34: =Revenue_Costs!E5*(Revenue_Costs!E22+Revenue_Costs!E29+Loan!E8)/E33 -> 0.49206319 | F34: =Revenue_Costs!F5*(Revenue_Costs!F22+Revenue_Costs!F29+Loan!F8)/F33 -> 0.48204437 | G34: =Revenue_Costs!G5*(Revenue_Costs!G22+Revenue_Costs!G29+Loan!G8)/G33 -> 0.45050313 | H34: =Revenue_Costs!H5*(Revenue_Costs!H22+Revenue_Costs!H29+Loan!H8)/H33 -> 0.42111795 | I34: =Revenue_Costs!I5*(Revenue_Costs!I22+Revenue_Costs!I29+Loan!I8)/I33 -> 0.38082937 | J34: =Revenue_Costs!J5*(Revenue_Costs!J22+Revenue_Costs!J29+Loan!J8)/J33 -> 0.35591715 | K34: =Revenue_Costs!K5*(Revenue_Costs!K22+Revenue_Costs!K29+Loan!K8)/K33 -> 0.33283365 | ... M34: =Revenue_Costs!M5*(Revenue_Costs!M22+Revenue_Costs!M29+Loan!M8)/M33 -> 0.29178779
A35: Cash break-even utilisation (fixed costs + debt service) | B35: % | D35: =Revenue_Costs!D5*(Revenue_Costs!D22+Loan!D8+Loan!D9)/D33 -> 0.35154064 | E35: =Revenue_Costs!E5*(Revenue_Costs!E22+Loan!E8+Loan!E9)/E33 -> 0.34658698 | F35: =Revenue_Costs!F5*(Revenue_Costs!F22+Loan!F8+Loan!F9)/F33 -> 0.56014816 | G35: =Revenue_Costs!G5*(Revenue_Costs!G22+Loan!G8+Loan!G9)/G33 -> 0.52570531 | H35: =Revenue_Costs!H5*(Revenue_Costs!H22+Loan!H8+Loan!H9)/H33 -> 0.4935274 | I35: =Revenue_Costs!I5*(Revenue_Costs!I22+Loan!I8+Loan!I9)/I33 -> 0.46350197 | J35: =Revenue_Costs!J5*(Revenue_Costs!J22+Loan!J8+Loan!J9)/J33 -> 0.43552204 | K35: =Revenue_Costs!K5*(Revenue_Costs!K22+Loan!K8+Loan!K9)/K33 -> 0.40948585 | ... M35: =Revenue_Costs!M5*(Revenue_Costs!M22+Loan!M8+Loan!M9)/M33 -> 0.19542612
A36: Break-even utilisation in the representative year | B36: % | C36: =INDEX(D34:M34,Inputs!$C$54) -> 0.45050313
A37: Cash break-even utilisation in the representative year | B37: % | C37: =INDEX(D35:M35,Inputs!$C$54) -> 0.52570531

Sheet Sensitivity
A1: Ambravik Cold Chain (fictional) - sensitivity tests
A2: EXAMPLE DATA - fictional project. Units Rs lakh unless stated. Formulas only; edit assumptions on the Inputs sheet.
A4: Case | B4: Project IRR | C4: Project NPV (Rs lakh) | D4: Equity IRR | E4: Minimum DSCR | F4: Average DSCR | G4: Payback (yrs) | H4: Lowest closing cash (Rs lakh) | I4: Balance sheet check
A5: =Inputs!$A$60 -> Base case | B5: =Sens_Calc!$C$125 -> 0.14959511 | C5: =Sens_Calc!$C$124 -> 163.08357 | D5: =Sens_Calc!$C$133 -> 0.20876832 | E5: =Sens_Calc!$C$111 -> 1.323375 | F5: =Sens_Calc!$C$112 -> 2.0113458 | G5: =Sens_Calc!$C$127 -> 5.7357401 | H5: =MIN(Sens_Calc!C95:M95) -> 18 | I5: =IF(SUMPRODUCT(ABS(Sens_Calc!C106:M106))<0.001,"Balances","ERROR") -> Balances
A6: =Inputs!$A$61 -> Rent -10% | B6: =Sens_Calc!$C$264 -> 0.12050483 | C6: =Sens_Calc!$C$263 -> 41.913266 | D6: =Sens_Calc!$C$272 -> 0.15327384 | E6: =Sens_Calc!$C$250 -> 1.1541177 | F6: =Sens_Calc!$C$251 -> 1.7418373 | G6: =Sens_Calc!$C$266 -> 6.4532836 | H6: =MIN(Sens_Calc!C234:M234) -> 18 | I6: =IF(SUMPRODUCT(ABS(Sens_Calc!C245:M245))<0.001,"Balances","ERROR") -> Balances
A7: =Inputs!$A$62 -> Utilisation -10 points | B7: =Sens_Calc!$C$403 -> 0.11556501 | C7: =Sens_Calc!$C$402 -> 22.290844 | D7: =Sens_Calc!$C$411 -> 0.14326117 | E7: =Sens_Calc!$C$389 -> 1.1256897 | F7: =Sens_Calc!$C$390 -> 1.6950488 | G7: =Sens_Calc!$C$405 -> 6.6052861 | H7: =MIN(Sens_Calc!C373:M373) -> 18 | I7: =IF(SUMPRODUCT(ABS(Sens_Calc!C384:M384))<0.001,"Balances","ERROR") -> Balances
A8: =Inputs!$A$63 -> Operating costs +10% | B8: =Sens_Calc!$C$542 -> 0.13884122 | C8: =Sens_Calc!$C$541 -> 117.61198 | D8: =Sens_Calc!$C$550 -> 0.1880701 | E8: =Sens_Calc!$C$528 -> 1.2612438 | F8: =Sens_Calc!$C$529 -> 1.9102229 | G8: =Sens_Calc!$C$544 -> 5.9883317 | H8: =MIN(Sens_Calc!C512:M512) -> 18 | I8: =IF(SUMPRODUCT(ABS(Sens_Calc!C523:M523))<0.001,"Balances","ERROR") -> Balances
A9: =Inputs!$A$64 -> Capital cost +10% | B9: =Sens_Calc!$C$681 -> 0.13160427 | C9: =Sens_Calc!$C$680 -> 95.911943 | D9: =Sens_Calc!$C$689 -> 0.17511124 | E9: =Sens_Calc!$C$667 -> 1.2181315 | F9: =Sens_Calc!$C$668 -> 1.8462084 | G9: =Sens_Calc!$C$683 -> 6.1631818 | H9: =MIN(Sens_Calc!C651:M651) -> 18 | I9: =IF(SUMPRODUCT(ABS(Sens_Calc!C662:M662))<0.001,"Balances","ERROR") -> Balances
A10: =Inputs!$A$65 -> Interest rate +2 points | B10: =Sens_Calc!$C$820 -> 0.14959511 | C10: =Sens_Calc!$C$819 -> 163.08357 | D10: =Sens_Calc!$C$828 -> 0.19401132 | E10: =Sens_Calc!$C$806 -> 1.2433566 | F10: =Sens_Calc!$C$807 -> 1.8783177 | G10: =Sens_Calc!$C$822 -> 5.7357401 | H10: =MIN(Sens_Calc!C790:M790) -> 18 | I10: =IF(SUMPRODUCT(ABS(Sens_Calc!C801:M801))<0.001,"Balances","ERROR") -> Balances
A11: =Inputs!$A$66 -> Combined: rent -10%, costs +10%, capex +10% | B11: =Sens_Calc!$C$959 -> 0.093378397 | C11: =Sens_Calc!$C$958 -> -70.754634 | D11: =Sens_Calc!$C$967 -> 0.1022451 | E11: =Sens_Calc!$C$945 -> 1.0392201 | F11: =Sens_Calc!$C$946 -> 1.5036654 | G11: =Sens_Calc!$C$961 -> 7.2895998 | H11: =MIN(Sens_Calc!C929:M929) -> 18 | I11: =IF(SUMPRODUCT(ABS(Sens_Calc!C940:M940))<0.001,"Balances","ERROR") -> Balances

Sheet Checks
A1: Ambravik Cold Chain (fictional) - model integrity checks (all must be 0 / OK)
A2: EXAMPLE DATA - fictional project. Units Rs lakh unless stated. Formulas only; edit assumptions on the Inputs sheet.
A3: Line item | B3: Unit | C3: Year 0 | D3: Year 1 | E3: Year 2 | F3: Year 3 | G3: Year 4 | H3: Year 5 | I3: Year 6 | J3: Year 7 | K3: Year 8 | L3: Year 9 | M3: Year 10
A4: Balance sheet: assets minus liabilities | C4: =ROUND(BalanceSheet!C8-BalanceSheet!C13,6) -> 0 | D4: =ROUND(BalanceSheet!D8-BalanceSheet!D13,6) -> 0 | E4: =ROUND(BalanceSheet!E8-BalanceSheet!E13,6) -> 0 | F4: =ROUND(BalanceSheet!F8-BalanceSheet!F13,6) -> 0 | G4: =ROUND(BalanceSheet!G8-BalanceSheet!G13,6) -> 0 | H4: =ROUND(BalanceSheet!H8-BalanceSheet!H13,6) -> 0 | I4: =ROUND(BalanceSheet!I8-BalanceSheet!I13,6) -> 0 | J4: =ROUND(BalanceSheet!J8-BalanceSheet!J13,6) -> 0 | ... M4: =ROUND(BalanceSheet!M8-BalanceSheet!M13,6) -> 0
A5: Cash tie: closing cash (cash flow) minus cash (balance sheet) | C5: =ROUND(CashFlow!C18-BalanceSheet!C7,6) -> 0 | D5: =ROUND(CashFlow!D18-BalanceSheet!D7,6) -> 0 | E5: =ROUND(CashFlow!E18-BalanceSheet!E7,6) -> 0 | F5: =ROUND(CashFlow!F18-BalanceSheet!F7,6) -> 0 | G5: =ROUND(CashFlow!G18-BalanceSheet!G7,6) -> 0 | H5: =ROUND(CashFlow!H18-BalanceSheet!H7,6) -> 0 | I5: =ROUND(CashFlow!I18-BalanceSheet!I7,6) -> 0 | J5: =ROUND(CashFlow!J18-BalanceSheet!J7,6) -> 0 | ... M5: =ROUND(CashFlow!M18-BalanceSheet!M7,6) -> 0
A6: Cash tie: closing cash minus sum of all net cash flows to date | C6: =ROUND(CashFlow!C18-SUM(CashFlow!C16),6) -> 0 | D6: =ROUND(CashFlow!D18-SUM(CashFlow!C16:D16),6) -> 0 | E6: =ROUND(CashFlow!E18-SUM(CashFlow!C16:E16),6) -> 0 | F6: =ROUND(CashFlow!F18-SUM(CashFlow!C16:F16),6) -> 0 | G6: =ROUND(CashFlow!G18-SUM(CashFlow!C16:G16),6) -> 0 | H6: =ROUND(CashFlow!H18-SUM(CashFlow!C16:H16),6) -> 0 | I6: =ROUND(CashFlow!I18-SUM(CashFlow!C16:I16),6) -> 0 | J6: =ROUND(CashFlow!J18-SUM(CashFlow!C16:J16),6) -> 0 | K6: =ROUND(CashFlow!K18-SUM(CashFlow!C16:K16),6) -> 0 | L6: =ROUND(CashFlow!L18-SUM(CashFlow!C16:L16),6) -> 0 | M6: =ROUND(CashFlow!M18-SUM(CashFlow!C16:M16),6) -> 0
A7: Loan: closing balance minus (drawn - repaid to date) | C7: =ROUND(Loan!C10-(SUM(Loan!C6)-SUM(Loan!C9)),6) -> 0 | D7: =ROUND(Loan!D10-(SUM(Loan!C6:D6)-SUM(Loan!C9:D9)),6) -> 0 | E7: =ROUND(Loan!E10-(SUM(Loan!C6:E6)-SUM(Loan!C9:E9)),6) -> 0 | F7: =ROUND(Loan!F10-(SUM(Loan!C6:F6)-SUM(Loan!C9:F9)),6) -> 0 | G7: =ROUND(Loan!G10-(SUM(Loan!C6:G6)-SUM(Loan!C9:G9)),6) -> 0 | H7: =ROUND(Loan!H10-(SUM(Loan!C6:H6)-SUM(Loan!C9:H9)),6) -> 0 | I7: =ROUND(Loan!I10-(SUM(Loan!C6:I6)-SUM(Loan!C9:I9)),6) -> 0 | J7: =ROUND(Loan!J10-(SUM(Loan!C6:J6)-SUM(Loan!C9:J9)),6) -> 0 | K7: =ROUND(Loan!K10-(SUM(Loan!C6:K6)-SUM(Loan!C9:K9)),6) -> 0 | L7: =ROUND(Loan!L10-(SUM(Loan!C6:L6)-SUM(Loan!C9:L9)),6) -> 0 | M7: =ROUND(Loan!M10-(SUM(Loan!C6:M6)-SUM(Loan!C9:M9)),6) -> 0
A8: Retained earnings minus cumulative PAT | C8: =ROUND(BalanceSheet!C10-SUM(CashFlow!C5),6) -> 0 | D8: =ROUND(BalanceSheet!D10-SUM(CashFlow!C5:D5),6) -> 0 | E8: =ROUND(BalanceSheet!E10-SUM(CashFlow!C5:E5),6) -> 0 | F8: =ROUND(BalanceSheet!F10-SUM(CashFlow!C5:F5),6) -> 0 | G8: =ROUND(BalanceSheet!G10-SUM(CashFlow!C5:G5),6) -> 0 | H8: =ROUND(BalanceSheet!H10-SUM(CashFlow!C5:H5),6) -> 0 | I8: =ROUND(BalanceSheet!I10-SUM(CashFlow!C5:I5),6) -> 0 | J8: =ROUND(BalanceSheet!J10-SUM(CashFlow!C5:J5),6) -> 0 | K8: =ROUND(BalanceSheet!K10-SUM(CashFlow!C5:K5),6) -> 0 | L8: =ROUND(BalanceSheet!L10-SUM(CashFlow!C5:L5),6) -> 0 | M8: =ROUND(BalanceSheet!M10-SUM(CashFlow!C5:M5),6) -> 0
A9: Sources minus uses of funds (Year 0) | C9: =ROUND(Capex_Funding!C21-Capex_Funding!C16,6) -> 0
A10: Term loan fully repaid by Year 10 (closing balance) | C10: =ROUND(Loan!M10,6) -> 0
A11: Base case in sensitivity engine minus model: project NPV | C11: =ROUND(Sens_Calc!$C$124-Returns!C21,6) -> 0
A12: Base case in sensitivity engine minus model: project IRR | C12: =ROUND(Sens_Calc!$C$125-Returns!C22,9) -> 0
A13: Base case in sensitivity engine minus model: minimum DSCR | C13: =ROUND(Sens_Calc!$C$111-Returns!C8,9) -> 0
A14: Lowest closing cash, any year (must be >= 0) | C14: =MIN(0,MIN(CashFlow!C18:M18)) -> 0
A16: OVERALL MODEL STATUS | C16: =IF(SUMPRODUCT(ABS(C4:M4))+SUMPRODUCT(ABS(C5:M5))+SUMPRODUCT(ABS(C6:M6))+SUMPRODUCT(ABS(C7:M7))+SUMPRODUCT(ABS(C8:M8))+SUMPRODUCT(ABS(C9:M9))+SUMPRODUCT(ABS(C10:M10))+SUMPRODUCT(ABS(C11:M11))+SUMPRODUCT(ABS(C12:M12))+SUMPRODUCT(ABS(C13:M13))+SUMPRODUCT(ABS(C14:M14))<0.001,"ALL CHECKS OK","CHECK ERRORS") -> ALL CHECKS OK
A17: Lender DSCR covenant met in every year? | C17: =IF(Returns!C8>=Inputs!$C$53,"YES","NO") -> YES

Sheet Sens_Calc
A1: Ambravik Cold Chain (fictional) - sensitivity engine (full model recalculated per case; do not edit)
A2: EXAMPLE DATA - fictional project. Units Rs lakh unless stated. Formulas only; edit assumptions on the Inputs sheet.
A3: Line item | B3: Unit | C3: Year 0 | D3: Year 1 | E3: Year 2 | F3: Year 3 | G3: Year 4 | H3: Year 5 | I3: Year 6 | J3: Year 7 | K3: Year 8 | L3: Year 9 | M3: Year 10
A4: Cost of project (Year 0) - case: Base case
A5: Land and site development | B5: Rs lakh | C5: =Inputs!$C$10*(1+Inputs!$F$60) -> 40
A6: Building and civil works | B6: Rs lakh | C6: =Inputs!$C$11*(1+Inputs!$F$60) -> 230
A7: Refrigeration plant and machinery | B7: Rs lakh | C7: =Inputs!$C$12*(1+Inputs!$F$60) -> 250
A8: Insulated panels, doors and racking | B8: Rs lakh | C8: =Inputs!$C$13*(1+Inputs!$F$60) -> 95
A9: Electricals, DG set and fire safety | B9: Rs lakh | C9: =Inputs!$C$14*(1+Inputs!$F$60) -> 48
A10: Rooftop solar plant | B10: Rs lakh | C10: =Inputs!$C$15*(1+Inputs!$F$60) -> 36
A11: Sub-total: building, plant and equipment | B11: Rs lakh | C11: =SUM(C6:C10) -> 659
A12: Contingency | B12: Rs lakh | C12: =C11*Inputs!$C$16 -> 32.95
A13: Preliminary and pre-operative expenses | B13: Rs lakh | C13: =Inputs!$C$17*(1+Inputs!$F$60) -> 22
A14: Total capital cost | B14: Rs lakh | C14: =C5+C11+C12+C13 -> 753.95
A15: Margin money / initial cash reserve | B15: Rs lakh | C15: =Inputs!$C$18 -> 18
A16: Total project cost | B16: Rs lakh | C16: =C14+C15 -> 771.95
A18: Means of finance
A19: Term loan | B19: Rs lakh | C19: =C16*Inputs!$C$20 -> 463.17
A20: Promoter equity | B20: Rs lakh | C20: =C16-C19 -> 308.78
A21: Total means of finance | B21: Rs lakh | C21: =C19+C20 -> 771.95
A22: Debt : equity | B22: x | C22: =C19/C20 -> 1.5
A24: Asset blocks for depreciation (contingency allocated pro rata)
A25: Building block | B25: Rs lakh | C25: =C6*(1+Inputs!$C$16) -> 241.5
A26: Plant and equipment at cost (before contingency) | B26: Rs lakh | C26: =C7+C8+C9+C10 -> 429
A27: Plant and equipment block | B27: Rs lakh | C27: =C26*(1+Inputs!$C$16) -> 450.45
A28: Revenue build-up - case: Base case
A29: Capacity utilisation | B29: % | D29: =MAX(0,MIN(1,Inputs!D$56+Inputs!$D$60)) -> 0.55 | E29: =MAX(0,MIN(1,Inputs!E$56+Inputs!$D$60)) -> 0.65 | F29: =MAX(0,MIN(1,Inputs!F$56+Inputs!$D$60)) -> 0.75 | G29: =MAX(0,MIN(1,Inputs!G$56+Inputs!$D$60)) -> 0.8 | H29: =MAX(0,MIN(1,Inputs!H$56+Inputs!$D$60)) -> 0.8 | I29: =MAX(0,MIN(1,Inputs!I$56+Inputs!$D$60)) -> 0.82 | J29: =MAX(0,MIN(1,Inputs!J$56+Inputs!$D$60)) -> 0.82 | K29: =MAX(0,MIN(1,Inputs!K$56+Inputs!$D$60)) -> 0.82 | ... M29: =MAX(0,MIN(1,Inputs!M$56+Inputs!$D$60)) -> 0.82
A30: Average quantity stored | B30: MT | D30: =Inputs!$C$25*D29 -> 2750 | E30: =Inputs!$C$25*E29 -> 3250 | F30: =Inputs!$C$25*F29 -> 3750 | G30: =Inputs!$C$25*G29 -> 4000 | H30: =Inputs!$C$25*H29 -> 4000 | I30: =Inputs!$C$25*I29 -> 4100 | J30: =Inputs!$C$25*J29 -> 4100 | K30: =Inputs!$C$25*K29 -> 4100 | ... M30: =Inputs!$C$25*M29 -> 4100
A31: Storage rent per MT per year | B31: Rs per MT | D31: =Inputs!$C$26*(1+Inputs!$C$27)^(Inputs!D$6-1)*(1+Inputs!$C$60) -> 6000 | E31: =Inputs!$C$26*(1+Inputs!$C$27)^(Inputs!E$6-1)*(1+Inputs!$C$60) -> 6240 | F31: =Inputs!$C$26*(1+Inputs!$C$27)^(Inputs!F$6-1)*(1+Inputs!$C$60) -> 6489.6 | G31: =Inputs!$C$26*(1+Inputs!$C$27)^(Inputs!G$6-1)*(1+Inputs!$C$60) -> 6749.184 | H31: =Inputs!$C$26*(1+Inputs!$C$27)^(Inputs!H$6-1)*(1+Inputs!$C$60) -> 7019.1514 | I31: =Inputs!$C$26*(1+Inputs!$C$27)^(Inputs!I$6-1)*(1+Inputs!$C$60) -> 7299.9174 | J31: =Inputs!$C$26*(1+Inputs!$C$27)^(Inputs!J$6-1)*(1+Inputs!$C$60) -> 7591.9141 | K31: =Inputs!$C$26*(1+Inputs!$C$27)^(Inputs!K$6-1)*(1+Inputs!$C$60) -> 7895.5907 | ... M31: =Inputs!$C$26*(1+Inputs!$C$27)^(Inputs!M$6-1)*(1+Inputs!$C$60) -> 8539.8709
